BEGIN:VCALENDAR
VERSION:2.0
PRODID:-//Beth El Shaddai - ECPv6.15.16//NONSGML v1.0//EN
CALSCALE:GREGORIAN
METHOD:PUBLISH
X-ORIGINAL-URL:https://shaddai.com
X-WR-CALDESC:Events for Beth El Shaddai
REFRESH-INTERVAL;VALUE=DURATION:PT1H
X-Robots-Tag:noindex
X-PUBLISHED-TTL:PT1H
BEGIN:VTIMEZONE
TZID:America/Chicago
BEGIN:DAYLIGHT
TZOFFSETFROM:-0600
TZOFFSETTO:-0500
TZNAME:CDT
DTSTART:20240310T080000
END:DAYLIGHT
BEGIN:STANDARD
TZOFFSETFROM:-0500
TZOFFSETTO:-0600
TZNAME:CST
DTSTART:20241103T070000
END:STANDARD
BEGIN:DAYLIGHT
TZOFFSETFROM:-0600
TZOFFSETTO:-0500
TZNAME:CDT
DTSTART:20250309T080000
END:DAYLIGHT
BEGIN:STANDARD
TZOFFSETFROM:-0500
TZOFFSETTO:-0600
TZNAME:CST
DTSTART:20251102T070000
END:STANDARD
BEGIN:DAYLIGHT
TZOFFSETFROM:-0600
TZOFFSETTO:-0500
TZNAME:CDT
DTSTART:20260308T080000
END:DAYLIGHT
BEGIN:STANDARD
TZOFFSETFROM:-0500
TZOFFSETTO:-0600
TZNAME:CST
DTSTART:20261101T070000
END:STANDARD
END:VTIMEZONE
BEGIN:VEVENT
DTSTART;TZID=America/Chicago:20251001T193000
DTEND;TZID=America/Chicago:20251001T210000
DTSTAMP:20260423T092224
CREATED:20180813T160124Z
LAST-MODIFIED:20250918T164024Z
UID:423-1759347000-1759352400@shaddai.com
SUMMARY:Service for Erev Yom Kippur
DESCRIPTION:Please join us for the holiest day of the year. This service will be a time of reflection and repentance. As this holiday is a fast\, there will be no food after.
URL:https://shaddai.com/event/service-for-erev-yom-kippur/
CATEGORIES:Special Service
END:VEVENT
BEGIN:VEVENT
DTSTART;TZID=America/Chicago:20251006T193000
DTEND;TZID=America/Chicago:20251006T203000
DTSTAMP:20260423T092224
CREATED:20180816T144741Z
LAST-MODIFIED:20250918T165201Z
UID:549-1759779000-1759782600@shaddai.com
SUMMARY:Service for Erev Sukkot
DESCRIPTION:We will be blessing the Sukkah. Please bring green branches and decorations for the Sukkah at 7:00.
URL:https://shaddai.com/event/service-for-erev-sukkot/
CATEGORIES:Special Service
END:VEVENT
BEGIN:VEVENT
DTSTART;TZID=America/Chicago:20251014T193000
DTEND;TZID=America/Chicago:20251014T203000
DTSTAMP:20260423T092224
CREATED:20180816T145813Z
LAST-MODIFIED:20251014T175708Z
UID:553-1760470200-1760473800@shaddai.com
SUMMARY:Service for Simchat Torah
DESCRIPTION:We will be dancing with the Torah tonight. \n 
URL:https://shaddai.com/event/service-for-simchat-torah/
CATEGORIES:Special Service
END:VEVENT
END:VCALENDAR